BEGIN:VCALENDAR
VERSION:2.0
PRODID:-//https://www.daiquiridecksiestakey.cdmsrq.info///NONSGML kigkonsult.se iCalcreator 2.10.15//
METHOD:PUBLISH
BEGIN:VEVENT
UID:20260419T151558UTC-0920tXnAbv@https://www.daiquiridecksiestakey.cdmsrq.
 info/
DTSTAMP:20260419T151558Z
DESCRIPTION: https://www.daiquiridecksiestakey.cdmsrq.info/component/rseven
 tspro/event/3833-5p-fat-tuesday?Itemid=101
DTSTART;VALUE=DATE:20260426
LOCATION:Daiquiri Deck South Siesta Key (1250 Stickney Point Rd\, Siesta Ke
 y\, FL 34242)
SUMMARY:5p Fat Tuesday
URL:https://www.daiquiridecksiestakey.cdmsrq.info/component/rseventspro/eve
 nt/3833-5p-fat-tuesday?Itemid=101
END:VEVENT
END:VCALENDAR
