BEGIN:VCALENDAR
VERSION:2.0
PRODID:-//https://www.daiquiridecksiestakey.cdmsrq.info///NONSGML kigkonsult.se iCalcreator 2.10.15//
METHOD:PUBLISH
BEGIN:VEVENT
UID:20260419T152436UTC-0576o5oUFP@https://www.daiquiridecksiestakey.cdmsrq.
 info/
DTSTAMP:20260419T152436Z
DESCRIPTION: https://www.daiquiridecksiestakey.cdmsrq.info/component/rseven
 tspro/event/3862-4p-sarah-santiago?Itemid=101
DTSTART;VALUE=DATE:20260420
LOCATION:Daiquiri Deck St. Armands Circle (325 John Ringling Blvd\, Sarasot
 a\, FL 34236)
SUMMARY:4p Sarah Santiago
URL:https://www.daiquiridecksiestakey.cdmsrq.info/component/rseventspro/eve
 nt/3862-4p-sarah-santiago?Itemid=101
END:VEVENT
END:VCALENDAR
