BEGIN:VCALENDAR
VERSION:2.0
PRODID:-//https://www.daiquiridecksiestakey.cdmsrq.info///NONSGML kigkonsult.se iCalcreator 2.10.15//
METHOD:PUBLISH
BEGIN:VEVENT
UID:20260419T152859UTC-4513J7WGGb@https://www.daiquiridecksiestakey.cdmsrq.
 info/
DTSTAMP:20260419T152859Z
DESCRIPTION: https://www.daiquiridecksiestakey.cdmsrq.info/component/rseven
 tspro/event/3868-4p-gulf-coastin-life?Itemid=101
DTSTART;VALUE=DATE:20260425
LOCATION:Daiquiri Deck St. Armands Circle (325 John Ringling Blvd\, Sarasot
 a\, FL 34236)
SUMMARY:4p Gulf Coastin.Life
URL:https://www.daiquiridecksiestakey.cdmsrq.info/component/rseventspro/eve
 nt/3868-4p-gulf-coastin-life?Itemid=101
END:VEVENT
END:VCALENDAR
