BEGIN:VCALENDAR
VERSION:2.0
PRODID:-//https://www.daiquiridecksiestakey.cdmsrq.info///NONSGML kigkonsult.se iCalcreator 2.10.15//
METHOD:PUBLISH
BEGIN:VEVENT
UID:20260419T165819UTC-0529vPF39r@https://www.daiquiridecksiestakey.cdmsrq.
 info/
DTSTAMP:20260419T165819Z
DESCRIPTION: https://www.daiquiridecksiestakey.cdmsrq.info/component/rseven
 tspro/event/3890-6p-ken-apperson?Itemid=101
DTSTART;VALUE=DATE:20260415
LOCATION:Daiquiri Deck Bradenton Beach (107 Bridge St\, Bradenton Beach\, F
 L 34217)
SUMMARY:6p Ken Apperson
URL:https://www.daiquiridecksiestakey.cdmsrq.info/component/rseventspro/eve
 nt/3890-6p-ken-apperson?Itemid=101
END:VEVENT
END:VCALENDAR
