BEGIN:VCALENDAR
VERSION:2.0
PRODID:-//https://www.daiquiridecksiestakey.cdmsrq.info///NONSGML kigkonsult.se iCalcreator 2.10.15//
METHOD:PUBLISH
BEGIN:VEVENT
UID:20260419T165649UTC-4486GCWZ9Z@https://www.daiquiridecksiestakey.cdmsrq.
 info/
DTSTAMP:20260419T165649Z
DESCRIPTION: https://www.daiquiridecksiestakey.cdmsrq.info/component/rseven
 tspro/event/3921-4p-jake-ariel?Itemid=101
DTSTART;VALUE=DATE:20260416
LOCATION:Daiquiri Deck Island of Venice (300 W Venice Ave\, Venice\, FL 342
 85)
SUMMARY:4p Jake & Ariel
URL:https://www.daiquiridecksiestakey.cdmsrq.info/component/rseventspro/eve
 nt/3921-4p-jake-ariel?Itemid=101
END:VEVENT
END:VCALENDAR
