BEGIN:VCALENDAR
VERSION:2.0
PRODID:-//https://www.daiquiridecksiestakey.cdmsrq.info///NONSGML kigkonsult.se iCalcreator 2.10.15//
METHOD:PUBLISH
BEGIN:VEVENT
UID:20260419T151603UTC-1667uS8VeU@https://www.daiquiridecksiestakey.cdmsrq.
 info/
DTSTAMP:20260419T151603Z
DESCRIPTION: https://www.daiquiridecksiestakey.cdmsrq.info/component/rseven
 tspro/event/3926-12p-aaron-kelly?Itemid=101
DTSTART;VALUE=DATE:20260421
LOCATION:Daiquiri Deck Island of Venice (300 W Venice Ave\, Venice\, FL 342
 85)
SUMMARY:12p Aaron Kelly
URL:https://www.daiquiridecksiestakey.cdmsrq.info/component/rseventspro/eve
 nt/3926-12p-aaron-kelly?Itemid=101
END:VEVENT
END:VCALENDAR
