BEGIN:VCALENDAR
VERSION:2.0
PRODID:-//https://www.daiquiridecksiestakey.cdmsrq.info///NONSGML kigkonsult.se iCalcreator 2.10.15//
METHOD:PUBLISH
BEGIN:VEVENT
UID:20260419T163847UTC-6942vWvPUZ@https://www.daiquiridecksiestakey.cdmsrq.
 info/
DTSTAMP:20260419T163847Z
DESCRIPTION: https://www.daiquiridecksiestakey.cdmsrq.info/component/rseven
 tspro/event/3935-4p-gary-anderson?Itemid=101
DTSTART;VALUE=DATE:20260430
LOCATION:Daiquiri Deck Island of Venice (300 W Venice Ave\, Venice\, FL 342
 85)
SUMMARY:4p Gary Anderson
URL:https://www.daiquiridecksiestakey.cdmsrq.info/component/rseventspro/eve
 nt/3935-4p-gary-anderson?Itemid=101
END:VEVENT
END:VCALENDAR
