BEGIN:VCALENDAR
VERSION:2.0
PRODID:-//https://www.daiquiridecksiestakey.cdmsrq.info///NONSGML kigkonsult.se iCalcreator 2.10.15//
METHOD:PUBLISH
BEGIN:VEVENT
UID:20260422T103746UTC-9295MVmorW@https://www.daiquiridecksiestakey.cdmsrq.
 info/
DTSTAMP:20260422T103746Z
DESCRIPTION: https://www.daiquiridecksiestakey.cdmsrq.info/component/rseven
 tspro/event/4006-9p-sam-the-bull?Itemid=101
DTSTART;VALUE=DATE:20260516
LOCATION:Daiquiri Deck Siesta Key Village (5250 Ocean Blvd\, Sarasota\, FL 
 34242)
SUMMARY: 9p Sam The Bull 
URL:https://www.daiquiridecksiestakey.cdmsrq.info/component/rseventspro/eve
 nt/4006-9p-sam-the-bull?Itemid=101
END:VEVENT
END:VCALENDAR
