BEGIN:VCALENDAR
VERSION:2.0
PRODID:-//https://www.daiquiridecksiestakey.cdmsrq.info///NONSGML kigkonsult.se iCalcreator 2.10.15//
METHOD:PUBLISH
BEGIN:VEVENT
UID:20260422T181950UTC-8321OW0l9c@https://www.daiquiridecksiestakey.cdmsrq.
 info/
DTSTAMP:20260422T181950Z
DESCRIPTION: https://www.daiquiridecksiestakey.cdmsrq.info/component/rseven
 tspro/event/4012-3p-rob-garcia?Itemid=101
DTSTART;VALUE=DATE:20260521
LOCATION:Daiquiri Deck Siesta Key Village (5250 Ocean Blvd\, Sarasota\, FL 
 34242)
SUMMARY:3p Rob Garcia   
URL:https://www.daiquiridecksiestakey.cdmsrq.info/component/rseventspro/eve
 nt/4012-3p-rob-garcia?Itemid=101
END:VEVENT
END:VCALENDAR
