BEGIN:VCALENDAR
VERSION:2.0
PRODID:-//https://www.daiquiridecksiestakey.cdmsrq.info///NONSGML kigkonsult.se iCalcreator 2.10.15//
METHOD:PUBLISH
BEGIN:VEVENT
UID:20260422T210842UTC-4379mu7Ila@https://www.daiquiridecksiestakey.cdmsrq.
 info/
DTSTAMP:20260422T210842Z
DESCRIPTION: https://www.daiquiridecksiestakey.cdmsrq.info/component/rseven
 tspro/event/4016-9p-dj-truth?Itemid=101
DTSTART;VALUE=DATE:20260523
LOCATION:Daiquiri Deck Siesta Key Village (5250 Ocean Blvd\, Sarasota\, FL 
 34242)
SUMMARY:  9p DJ Truth
URL:https://www.daiquiridecksiestakey.cdmsrq.info/component/rseventspro/eve
 nt/4016-9p-dj-truth?Itemid=101
END:VEVENT
END:VCALENDAR
