BEGIN:VCALENDAR
VERSION:2.0
PRODID:-//https://www.daiquiridecksiestakey.cdmsrq.info///NONSGML kigkonsult.se iCalcreator 2.10.15//
METHOD:PUBLISH
BEGIN:VEVENT
UID:20260422T222944UTC-6396Sxc5R5@https://www.daiquiridecksiestakey.cdmsrq.
 info/
DTSTAMP:20260422T222944Z
DESCRIPTION: https://www.daiquiridecksiestakey.cdmsrq.info/component/rseven
 tspro/event/4017-3p-wayne-delair?Itemid=101
DTSTART;VALUE=DATE:20260524
LOCATION:Daiquiri Deck Siesta Key Village (5250 Ocean Blvd\, Sarasota\, FL 
 34242)
SUMMARY:3p Wayne Delair
URL:https://www.daiquiridecksiestakey.cdmsrq.info/component/rseventspro/eve
 nt/4017-3p-wayne-delair?Itemid=101
END:VEVENT
END:VCALENDAR
