BEGIN:VCALENDAR
VERSION:2.0
PRODID:-//https://www.daiquiridecksiestakey.cdmsrq.info///NONSGML kigkonsult.se iCalcreator 2.10.15//
METHOD:PUBLISH
BEGIN:VEVENT
UID:20260422T211007UTC-0826vXcriK@https://www.daiquiridecksiestakey.cdmsrq.
 info/
DTSTAMP:20260422T211007Z
DESCRIPTION: https://www.daiquiridecksiestakey.cdmsrq.info/component/rseven
 tspro/event/4053-4p-rob-garcia?Itemid=101
DTSTART;VALUE=DATE:20260523
LOCATION:Daiquiri Deck South Siesta Key (1250 Stickney Point Rd\, Siesta Ke
 y\, FL 34242)
SUMMARY:  4p Rob Garcia 
URL:https://www.daiquiridecksiestakey.cdmsrq.info/component/rseventspro/eve
 nt/4053-4p-rob-garcia?Itemid=101
END:VEVENT
END:VCALENDAR
