BEGIN:VCALENDAR
VERSION:2.0
PRODID:-//https://www.daiquiridecksiestakey.cdmsrq.info///NONSGML kigkonsult.se iCalcreator 2.10.15//
METHOD:PUBLISH
BEGIN:VEVENT
UID:20260423T001237UTC-9719TKW4wB@https://www.daiquiridecksiestakey.cdmsrq.
 info/
DTSTAMP:20260423T001237Z
DESCRIPTION: https://www.daiquiridecksiestakey.cdmsrq.info/component/rseven
 tspro/event/4055-3p-jake-ariel?Itemid=101
DTSTART;VALUE=DATE:20260525
LOCATION:Daiquiri Deck South Siesta Key (1250 Stickney Point Rd\, Siesta Ke
 y\, FL 34242)
SUMMARY:3p Jake & Ariel
URL:https://www.daiquiridecksiestakey.cdmsrq.info/component/rseventspro/eve
 nt/4055-3p-jake-ariel?Itemid=101
END:VEVENT
END:VCALENDAR
