BEGIN:VCALENDAR
VERSION:2.0
PRODID:-//https://www.daiquiridecksiestakey.cdmsrq.info///NONSGML kigkonsult.se iCalcreator 2.10.15//
METHOD:PUBLISH
BEGIN:VEVENT
UID:20260422T200124UTC-8882EGksEC@https://www.daiquiridecksiestakey.cdmsrq.
 info/
DTSTAMP:20260422T200124Z
DESCRIPTION: https://www.daiquiridecksiestakey.cdmsrq.info/component/rseven
 tspro/event/4090-6p-flash-back-friday-karaoke?Itemid=101
DTSTART;VALUE=DATE:20260522
LOCATION:Daiquiri Deck St. Armands Circle (325 John Ringling Blvd\, Sarasot
 a\, FL 34236)
SUMMARY: 6p Flash Back Friday Karaoke
URL:https://www.daiquiridecksiestakey.cdmsrq.info/component/rseventspro/eve
 nt/4090-6p-flash-back-friday-karaoke?Itemid=101
END:VEVENT
END:VCALENDAR
