BEGIN:VCALENDAR
VERSION:2.0
PRODID:-//https://www.daiquiridecksiestakey.cdmsrq.info///NONSGML kigkonsult.se iCalcreator 2.10.15//
METHOD:PUBLISH
BEGIN:VEVENT
UID:20260422T210828UTC-0445siLPuc@https://www.daiquiridecksiestakey.cdmsrq.
 info/
DTSTAMP:20260422T210828Z
DESCRIPTION: https://www.daiquiridecksiestakey.cdmsrq.info/component/rseven
 tspro/event/4124-3p-tim-mccaig?Itemid=101
DTSTART;VALUE=DATE:20260523
LOCATION:Daiquiri Deck Bradenton Beach (107 Bridge St\, Bradenton Beach\, F
 L 34217)
SUMMARY:3p Tim McCaig
URL:https://www.daiquiridecksiestakey.cdmsrq.info/component/rseventspro/eve
 nt/4124-3p-tim-mccaig?Itemid=101
END:VEVENT
END:VCALENDAR
