BEGIN:VCALENDAR
VERSION:2.0
PRODID:-//https://www.daiquiridecksiestakey.cdmsrq.info///NONSGML kigkonsult.se iCalcreator 2.10.15//
METHOD:PUBLISH
BEGIN:VEVENT
UID:20260423T052853UTC-8422bZ6Jxj@https://www.daiquiridecksiestakey.cdmsrq.
 info/
DTSTAMP:20260423T052853Z
DESCRIPTION: https://www.daiquiridecksiestakey.cdmsrq.info/component/rseven
 tspro/event/4130-5pm-chad-tallman?Itemid=101
DTSTART;VALUE=DATE:20260529
LOCATION:Daiquiri Deck Bradenton Beach (107 Bridge St\, Bradenton Beach\, F
 L 34217)
SUMMARY:5pm Chad Tallman
URL:https://www.daiquiridecksiestakey.cdmsrq.info/component/rseventspro/eve
 nt/4130-5pm-chad-tallman?Itemid=101
END:VEVENT
END:VCALENDAR
