BEGIN:VCALENDAR
VERSION:2.0
PRODID:-//https://www.daiquiridecksiestakey.cdmsrq.info///NONSGML kigkonsult.se iCalcreator 2.10.15//
METHOD:PUBLISH
BEGIN:VEVENT
UID:20260422T212802UTC-27665ZfRDo@https://www.daiquiridecksiestakey.cdmsrq.
 info/
DTSTAMP:20260422T212802Z
DESCRIPTION: https://www.daiquiridecksiestakey.cdmsrq.info/component/rseven
 tspro/event/4155-5p-kevin-thompson?Itemid=101
DTSTART;VALUE=DATE:20260523
LOCATION:Daiquiri Deck Island of Venice (300 W Venice Ave\, Venice\, FL 342
 85)
SUMMARY:5p Kevin Thompson
URL:https://www.daiquiridecksiestakey.cdmsrq.info/component/rseventspro/eve
 nt/4155-5p-kevin-thompson?Itemid=101
END:VEVENT
END:VCALENDAR
