BEGIN:VCALENDAR
VERSION:2.0
PRODID:-//https://www.daiquiridecksiestakey.cdmsrq.info///NONSGML kigkonsult.se iCalcreator 2.10.15//
METHOD:PUBLISH
BEGIN:VEVENT
UID:20260422T230132UTC-7557bI0gJP@https://www.daiquiridecksiestakey.cdmsrq.
 info/
DTSTAMP:20260422T230132Z
DESCRIPTION: https://www.daiquiridecksiestakey.cdmsrq.info/component/rseven
 tspro/event/4156-4p-maddie-lin?Itemid=101
DTSTART;VALUE=DATE:20260524
LOCATION:Daiquiri Deck Island of Venice (300 W Venice Ave\, Venice\, FL 342
 85)
SUMMARY:4p Maddie Lin
URL:https://www.daiquiridecksiestakey.cdmsrq.info/component/rseventspro/eve
 nt/4156-4p-maddie-lin?Itemid=101
END:VEVENT
END:VCALENDAR
