BEGIN:VCALENDAR
VERSION:2.0
PRODID:-//https://www.daiquiridecksiestakey.cdmsrq.info///NONSGML kigkonsult.se iCalcreator 2.10.15//
METHOD:PUBLISH
BEGIN:VEVENT
UID:20260423T015416UTC-9732wmV9gD@https://www.daiquiridecksiestakey.cdmsrq.
 info/
DTSTAMP:20260423T015416Z
DESCRIPTION: https://www.daiquiridecksiestakey.cdmsrq.info/component/rseven
 tspro/event/4158-12p-lonnie-paul?Itemid=101
DTSTART;VALUE=DATE:20260526
LOCATION:Daiquiri Deck Island of Venice (300 W Venice Ave\, Venice\, FL 342
 85)
SUMMARY:12p Lonnie Paul
URL:https://www.daiquiridecksiestakey.cdmsrq.info/component/rseventspro/eve
 nt/4158-12p-lonnie-paul?Itemid=101
END:VEVENT
END:VCALENDAR
