BEGIN:VCALENDAR
VERSION:2.0
PRODID:-//https://www.daiquiridecksiestakey.cdmsrq.info///NONSGML kigkonsult.se iCalcreator 2.10.15//
METHOD:PUBLISH
BEGIN:VEVENT
UID:20260425T173644UTC-3592nHhwg4@https://www.daiquiridecksiestakey.cdmsrq.
 info/
DTSTAMP:20260425T173644Z
DESCRIPTION: https://www.daiquiridecksiestakey.cdmsrq.info/component/rseven
 tspro/event/4163-5p-nathaniel-lee-white?Itemid=101
DTSTART;VALUE=DATE:20260531
LOCATION:Daiquiri Deck Island of Venice (300 W Venice Ave\, Venice\, FL 342
 85)
SUMMARY:5p Nathaniel Lee White
URL:https://www.daiquiridecksiestakey.cdmsrq.info/component/rseventspro/eve
 nt/4163-5p-nathaniel-lee-white?Itemid=101
END:VEVENT
END:VCALENDAR
