BEGIN:VCALENDAR
VERSION:2.0
PRODID:-//https://www.daiquiridecksiestakey.cdmsrq.info///NONSGML kigkonsult.se iCalcreator 2.10.15//
METHOD:PUBLISH
BEGIN:VEVENT
UID:20260422T111447UTC-58082KBUS5@https://www.daiquiridecksiestakey.cdmsrq.
 info/
DTSTAMP:20260422T111447Z
DESCRIPTION: https://www.daiquiridecksiestakey.cdmsrq.info/component/rseven
 tspro/event/4169-12p-jake-ariel?Itemid=101
DTSTART;VALUE=DATE:20260516
LOCATION:Daiquiri Deck Island of Venice (300 W Venice Ave\, Venice\, FL 342
 85)
SUMMARY:12p Jake & Ariel 
URL:https://www.daiquiridecksiestakey.cdmsrq.info/component/rseventspro/eve
 nt/4169-12p-jake-ariel?Itemid=101
END:VEVENT
END:VCALENDAR
